BEGIN:VCALENDAR
VERSION:2.0
PRODID:-//ChamberMaster//Event Calendar 2.0//EN
METHOD:PUBLISH
X-PUBLISHED-TTL:P3D
REFRESH-INTERVAL:P3D
CALSCALE:GREGORIAN
BEGIN:VEVENT
DTSTART:20260319T203000Z
DTEND:20260319T213000Z
X-MICROSOFT-CDO-ALLDAYEVENT:FALSE
SUMMARY:Adulting 101 - Food Basics
DESCRIPTION:?? Adulting 101: Food Basics Teens are invited to join us for a practical\, hands-on Food Basics class as part of our Adulting 101 series. Participants will learn simple measuring skills\, how to read a recipe\, basic kitchen safety\, and easy no-cook meals they can make on their own. ?? Thursday\, March 19 ? 3:30 4:30 PM ?? First National Room at First National Bank ?? Open to teens ?? No charge This class is designed to build confidence in the kitchen with simple\, affordable meal ideas. No experience needed. For more information\, contact the library.
X-ALT-DESC;FMTTYPE=text/html:?? Adulting 101: Food Basics Teens are invited to join us for a practical\, hands-on Food Basics class as part of our Adulting 101 series. Participants will learn simple measuring skills\, how to read a recipe\, basic kitchen safety\, and easy no-cook meals they can make on their own. ?? Thursday\, March 19 ? 3:30&ndash\;4:30 PM ?? First National Room at First National Bank ?? Open to teens ?? No charge This class is designed to build confidence in the kitchen with simple\, affordable meal ideas. No experience needed. For more information\, contact the library.
LOCATION:First National Bank\, First National Room 206 S. First Street\, Pulaski\, TN
UID:e.3481.623
SEQUENCE:3
DTSTAMP:20260421T100851Z
URL:https://members.gilescountychamber.com/events/details/adulting-101-food-basics-623
END:VEVENT

END:VCALENDAR
