BEGIN:VCALENDAR
VERSION:2.0
PRODID:-//ChamberMaster//Event Calendar 2.0//EN
METHOD:PUBLISH
X-PUBLISHED-TTL:P3D
REFRESH-INTERVAL:P3D
CALSCALE:GREGORIAN
BEGIN:VEVENT
DTSTART:20240518T230000Z
DTEND:20240519T020000Z
X-MICROSOFT-CDO-ALLDAYEVENT:FALSE
SUMMARY:Saturday on the Square
DESCRIPTION:We are ecstatic to continue to offer local\, Saturday night fun in beautiful Downtown Pulaski.\n\n\n\nOn one Saturday of the month we will be hosting an event that promises food\, fellowship\, a drink or two\, and all the local love you can handle!\n\n\n\nThis monthly event will have live music\, food trucks\, beer sales\, retailers open late\, and Speedvette Vette Fest will be in attendance!\n\n\n\nGrab a friend and we will see you there!\n\n\n\nSee more details for the Corvette Cruise In here: https://www.facebook.com/events/2345403545663032
X-ALT-DESC;FMTTYPE=text/html:We are ecstatic to continue to offer local\, Saturday night fun in beautiful Downtown Pulaski.<br />\n<br />\nOn one Saturday of the month we will be hosting an event that promises food\, fellowship\, a drink or two\, and all the local love you can handle!<br />\n<br />\nThis monthly event will have live music\, food trucks\, beer sales\, retailers open late\, and Speedvette Vette Fest will be in attendance!<br />\n<br />\nGrab a friend and we will see you there!<br />\n<br />\nSee more details for the Corvette Cruise In here:&nbsp\;https://www.facebook.com/events/2345403545663032<br />\n<br />\n&nbsp\;
LOCATION:Historic Downtown Pulaski 110 N 2nd St\, Pulaski\, TN 38478
UID:e.3481.448
SEQUENCE:3
DTSTAMP:20260423T045802Z
URL:https://members.gilescountychamber.com/events/details/saturday-on-the-square-448
END:VEVENT

END:VCALENDAR
